BEGIN:VCALENDAR
VERSION:2.0
PRODID:icalendar-ruby
CALSCALE:GREGORIAN
METHOD:PUBLISH
BEGIN:VEVENT
DTSTAMP:20260422T024425Z
UID:7-305159@uuspringfield.org
DTSTART:20261021T220000Z
DTEND:20261021T230000Z
CLASS:PUBLIC
CREATED:20260421T212454
DESCRIPTION:Informal\, family-friendly community time over a fresh-cooked m
 eal... with time before &amp\; after for groups\, hanging out\, and arts p
 rogramming.  Helpers welcomed before and after (but not required).\nCome 
 hungry... and be nourished!\n 
LAST-MODIFIED:20260421T212454
LOCATION:
SUMMARY:Soulful Supper
URL;VALUE=URI:https://www.uuspringfield.org/events/soulful-supper--7/2026-1
 0-21
ATTACH;FILENAME=image.png;FMTTYPE=image/png:https://dq5pwpg1q8ru0.cloudfron
 t.net/2025/03/28/16/32/43/30f324f0-8afe-47a8-8e6c-a554a141126d/image.png
END:VEVENT
END:VCALENDAR
