BEGIN:VCALENDAR
VERSION:2.0
PRODID:icalendar-ruby
CALSCALE:GREGORIAN
METHOD:PUBLISH
BEGIN:VEVENT
DTSTAMP:20260423T133908Z
UID:205-300961@uuspringfield.org
DTSTART:20260425T150000Z
DTEND:20260425T160000Z
CLASS:PUBLIC
CREATED:20260417T095034
DESCRIPTION:All are welcome at a service celebrating the life of Ursela M. 
 Gurau\, who died November 10\, 2025.  We will begin in the sanctuary befo
 re moving into the Memorial Garden.  \nOur heart extends to Ursela's fami
 ly and to all who grieve.  Please find her obituary below (PDF).
LAST-MODIFIED:20260417T095034
LOCATION:UUSGS Meetinghouse
SUMMARY:Remembering Ursela M. Gurau
URL;VALUE=URI:https://www.uuspringfield.org/events/remembering-ursela-m-gur
 au/2026-04-25
ATTACH;FILENAME=Memorial-Garden.JPG;FMTTYPE=image/jpeg:https://dq5pwpg1q8ru
 0.cloudfront.net/2026/04/17/13/49/41/928f6443-daed-4960-98b7-799cca4fd8d3/
 Memorial-Garden.JPG
ATTACH;FILENAME=Ursela Gurau.pdf;FMTTYPE=application/pdf:https://dq5pwpg1q8
 ru0.cloudfront.net/2026/04/17/13/50/34/9ba66345-c37f-46c3-aee4-c802289b67d
 2/Ursela%20Gurau.pdf
END:VEVENT
END:VCALENDAR
